BEGIN:VCALENDAR
VERSION:2.0
PRODID:icalendar-ruby
CALSCALE:GREGORIAN
METHOD:PUBLISH
BEGIN:VEVENT
DTSTAMP:20260425T210155Z
UID:8-221535@bendumc.org
DTSTART:20261018T170000Z
DTEND:20261018T180000Z
CLASS:PUBLIC
CREATED:20260425T132931
DESCRIPTION:
LAST-MODIFIED:20260425T132931
LOCATION:
SUMMARY:In-Person Worship Service
URL;VALUE=URI:https://bendumc.org/events/in-person-worship-service/2026-10-
 18
END:VEVENT
END:VCALENDAR
