BEGIN:VCALENDAR
VERSION:2.0
PRODID:icalendar-ruby
CALSCALE:GREGORIAN
METHOD:PUBLISH
BEGIN:VEVENT
DTSTAMP:20260426T003543Z
UID:8-221607@bendumc.org
DTSTART:20261101T180000Z
DTEND:20261101T190000Z
CLASS:PUBLIC
CREATED:20260425T161220
DESCRIPTION:
LAST-MODIFIED:20260425T161220
LOCATION:
SUMMARY:In-Person Worship Service
URL;VALUE=URI:https://bendumc.org/events/in-person-worship-service/2026-11-
 01
END:VEVENT
END:VCALENDAR
